BEGIN:VCALENDAR
VERSION:2.0
PRODID:-//Entelequia Cultura - ECPv6.15.19//NONSGML v1.0//EN
CALSCALE:GREGORIAN
METHOD:PUBLISH
X-ORIGINAL-URL:https://www.entelequiacultura.com
X-WR-CALDESC:Eventos para Entelequia Cultura
REFRESH-INTERVAL;VALUE=DURATION:PT1H
X-Robots-Tag:noindex
X-PUBLISHED-TTL:PT1H
BEGIN:VTIMEZONE
TZID:Europe/Madrid
BEGIN:DAYLIGHT
TZOFFSETFROM:+0100
TZOFFSETTO:+0200
TZNAME:CEST
DTSTART:20250330T010000
END:DAYLIGHT
BEGIN:STANDARD
TZOFFSETFROM:+0200
TZOFFSETTO:+0100
TZNAME:CET
DTSTART:20251026T010000
END:STANDARD
BEGIN:DAYLIGHT
TZOFFSETFROM:+0100
TZOFFSETTO:+0200
TZNAME:CEST
DTSTART:20260329T010000
END:DAYLIGHT
BEGIN:STANDARD
TZOFFSETFROM:+0200
TZOFFSETTO:+0100
TZNAME:CET
DTSTART:20261025T010000
END:STANDARD
BEGIN:DAYLIGHT
TZOFFSETFROM:+0100
TZOFFSETTO:+0200
TZNAME:CEST
DTSTART:20270328T010000
END:DAYLIGHT
BEGIN:STANDARD
TZOFFSETFROM:+0200
TZOFFSETTO:+0100
TZNAME:CET
DTSTART:20271031T010000
END:STANDARD
END:VTIMEZONE
BEGIN:VEVENT
DTSTART;TZID=Europe/Madrid:20260327T100000
DTEND;TZID=Europe/Madrid:20260327T140000
DTSTAMP:20260420T105722
CREATED:20260201T122204Z
LAST-MODIFIED:20260409T183043Z
UID:44467-1774605600-1774620000@www.entelequiacultura.com
SUMMARY:EL DESPERTAR ESPIRITUAL (Mario Satz)
DESCRIPTION:Descripción del seminario:\nAprendimos del budismo a considerar el estado ideal de la mente como un despertar. Mientras eso no ocurre\, parecemos y estamos dormidos para las cosas esenciales del alma. Si bien existen métodos para estimular ese despertar\, lo cierto es que las experiencias que conducen de la opacidad del dormido a la lucidez del despierto\, responden a ciertas espontaneidades\, ciertas lecturas y sobre todo determinadas experiencias vitales. Cada individuo debe seguir su propia senda. \nSegún parece indicar ese selecto grupo de iniciados que son los despiertos\, el Espíritu siempre estuvo allí pero tendemos a olvidarlo y necesitamos que se nos recuerde en qué consiste su apertura y posterior consuelo. Mientras que en la primera parte de nuestras vidas la biología rige nuestro desarrollo\, en la segunda serán la psicología y sobre todo la Metafísica las que nos ayuden a despertar a lo trascendente. \nEntre otros\, se abordarán los siguientes puntos: \n\nDel carbón al diamante\nEl ser interior y el Eros\nEl koan japonés como llave súbita\nLa mejor hora según el I-Ching\n\nEl profesor:\n\nMARIO SATZ (Coronel Pringles\, Buenos Aires) es filólogo\, escritor y traductor. Tras cursar estudios en Argentina\, realizó largos viajes por Sudamérica\, Estados Unidos y Europa. Entre 1970 y 1973 vivió en Jerusalén\, donde estudió la Kábala\, la Biblia y antropología e historia de Oriente Medio. En 1977 recibió una beca del gobierno italiano para investigar la obra del humanista Pico della Mirandola. Colabora asiduamente en numerosas revistas españolas y americanas. Ha publicado poemarios\, novelas y numerosos ensayos. Entre otros muchos títulos\, es autor de «El secreto de la miel» (Huerga Fierro)\, «Budai. El buda de la risa» (RBA)\, «El abanico de las especies» (Pre-textos)\, «¿Qué es la Kábala?» (Kairós)\, «El cantar de los cantares. El aroma del amor» (Kairós)\, «Breve tratado de la soledad» (Kairós) «Pequeños paraísos» (Acantilado)\, «El alfabeto alado» (Acantilado) y «Bibliotecas imaginarias» (Acantilado).\n		\n							\n						\n				\nDetalles\n			\n			\n					\n	\nSi quieres recibir información puntual sobre nuevas actividades\, suscríbete a nuestro Boletín Informativo \n¡Suscribirme!\nhola@entelequiacultura.com
URL:https://www.entelequiacultura.com/evento/despertar-espiritual-mario-satz-2026/
LOCATION:SEMINARIO – Barcelona
CATEGORIES:Actividades BCN,Pensamiento
ATTACH;FMTTYPE=image/jpeg:https://www.entelequiacultura.com/wp-content/uploads/2026/02/Mario-Satz-en-Entelequia.jpg
END:VEVENT
END:VCALENDAR