BEGIN:VCALENDAR
VERSION:2.0
PRODID:-//Entelequia Cultura - ECPv6.15.19//NONSGML v1.0//EN
CALSCALE:GREGORIAN
METHOD:PUBLISH
X-WR-CALNAME:Entelequia Cultura
X-ORIGINAL-URL:https://www.entelequiacultura.com
X-WR-CALDESC:Eventos para Entelequia Cultura
REFRESH-INTERVAL;VALUE=DURATION:PT1H
X-Robots-Tag:noindex
X-PUBLISHED-TTL:PT1H
BEGIN:VTIMEZONE
TZID:Europe/Madrid
BEGIN:DAYLIGHT
TZOFFSETFROM:+0100
TZOFFSETTO:+0200
TZNAME:CEST
DTSTART:20240331T010000
END:DAYLIGHT
BEGIN:STANDARD
TZOFFSETFROM:+0200
TZOFFSETTO:+0100
TZNAME:CET
DTSTART:20241027T010000
END:STANDARD
BEGIN:DAYLIGHT
TZOFFSETFROM:+0100
TZOFFSETTO:+0200
TZNAME:CEST
DTSTART:20250330T010000
END:DAYLIGHT
BEGIN:STANDARD
TZOFFSETFROM:+0200
TZOFFSETTO:+0100
TZNAME:CET
DTSTART:20251026T010000
END:STANDARD
BEGIN:DAYLIGHT
TZOFFSETFROM:+0100
TZOFFSETTO:+0200
TZNAME:CEST
DTSTART:20260329T010000
END:DAYLIGHT
BEGIN:STANDARD
TZOFFSETFROM:+0200
TZOFFSETTO:+0100
TZNAME:CET
DTSTART:20261025T010000
END:STANDARD
END:VTIMEZONE
BEGIN:VEVENT
DTSTART;TZID=Europe/Madrid:20251114T180000
DTEND;TZID=Europe/Madrid:20251116T133000
DTSTAMP:20260421T103454
CREATED:20250708T183739Z
LAST-MODIFIED:20251116T190532Z
UID:43285-1763143200-1763299800@www.entelequiacultura.com
SUMMARY:LA INTIMIDAD COMO TERRITORIO LITERARIO (Olga Merino)
DESCRIPTION:Descripción:\nEn ocasiones te miras al espejo y no recuerdas quién eres ni la edad que tienes. A veces necesitas al otro para establecer una frontera entre el dentro y el afuera. Cada vez se reconoce con más fuerza la relevancia del ámbito íntimo\, hasta el punto de que hoy constituye una clave fundamental para comprender la tardomodernidad. ¿Cómo se escribe la vida pequeña? ¿Cómo se construye la conciencia de los personajes? ¿Cómo se inventa el yo? \nDurante nuestro retiro\, exploraremos el retrato de la intimidad a través de la lectura y análisis de textos literarios de diversos géneros. Abordaremos cuestiones como el cuerpo\, el erotismo\, la enfermedad\, el envejecimiento y la muerte. El género. Los cuidados. La ruptura del vínculo. Lo que se piensa pero no se dice. Lo que se oculta a los demás. Los secretos. La vergüenza y la deformidad. También examinaremos la esfera íntima convertida en lugar de exposición de la memoria y la clase social\, así como las destrezas de los escritores a la hora de hurgar en lo biográfico para conseguir material literario. \nEl desmenuzamiento de los textos que se entregarán se intercalará con la propuesta de ejercicios voluntarios de escritura. \nLectura recomendada: \nIntimidad\, de Hanif Kureishi (Anagrama).\n					\nLa profesora:\n					\n© Marta Calvo \nOLGA MERINO es licenciada en Ciencias de la Información y máster en Historia y Literatura Latinoamericanas en el Reino Unido. Trabajó en la década de los noventa en Moscú como corresponsal para El Periódico. De aquella experiencia surgió su primera novela\, Cenizas rojas. A aquella novela le siguieron Espuelas de papel y Perros que ladran en el sótano. En 2006 obtuvo el Premio Vargas Llosa NH por Las normas son las normas. Con La forastera (Alfaguara\, 2020) obtuvo el premio Real Academia Española de creación literaria 2022\, del Pata Negra y del Cubelles Noir\, finalista del Premio Bienal de novela Mario Vargas Llosa y del VII Premio Ciudad de Santa Cruz de Novela Criminal y situada entre los mejores libros de 2020 según El País\, El Periódico y Forbes. Su último libro es «Cinco inviernos» (Alfaguara\, 2022)\, diario en el que relata sus años rusos en el trigésimo aniversario de la disolución de la Unión Soviética. \nSus novelas han sido traducidas al italiano\, neerlandés\, inglés\, francés y chino. \nActualmente es columnista en el diario La Vanguardia. Ha sido profesora de la Escuela de Escritura de l’Ateneu Barcelonès.\n					\nEl lugar:\n					\nEl encuentro se llevará a cabo en el pueblo costero de Sitges\, en la provincia de Barcelona. \nNos hospedaremos en el hotel Romàntic\, situado en el centro histórico\, a 350m de la playa y muy cerca de los puntos de interés de la localidad. El hotel es un edificio de estilo colonial\, cuya historia está marcada por la figura carismática de Sobrer que lo convirtió en foco de actividad cultural en Sitges. Hoy\, el hotel alberga una colección de más de 300 obras de arte\, con murales del propio Sobrer y pinturas y esculturas de varios artistas. \n\n\n\n		\n		\n	\n				\n			\n																	\n		\n\n		\n					\n				\n										\n						\n							Leer más...						\n					\n									\n			\n						\n\n	\n				\n			\n																	\n		\n\n		\n					\n				\n										\n						\n							Leer más...						\n					\n									\n			\n						\n\n	\n				\n			\n																	\n		\n\n		\n					\n				\n										\n						\n							Leer más...						\n					\n									\n			\n						\n\n	\n				\n			\n																	\n		\n\n		\n					\n				\n										\n						\n							Leer más...						\n					\n									\n			\n						\n\n	\n				\n			\n																	\n		\n\n		\n					\n				\n										\n						\n							Leer más...						\n					\n									\n			\n						\n\n	\n				\n			\n																	\n		\n\n		\n					\n				\n										\n						\n							Leer más...						\n					\n									\n			\n						\n\n	\n				\n			\n																	\n		\n\n		\n					\n				\n										\n						\n							Leer más...						\n					\n									\n			\n						\n	\n	\n\n\nTraslados: \nPara llegar en transporte público se puede ir en tren desde la estación de Sants de Barcelona hasta la estación de tren de Sitges. \nPara llegar desde el aeropuerto de Barcelona (terminal 1) la compañía de autobuses Monbus ofrece conexión con Sitges. El trayecto dura 25 minutos y hay que bajar en la parada: “Parc Can Robert”\, que se encuentra a 7 minutos andando del hotel.\n		\n							\n						\n				\nDetalles			\n			\n					\n	\nSi quieres recibir información puntual sobre nuevas actividades\, suscríbete a nuestro Boletín Informativo \n¡Suscribirme!\nhola@entelequiacultura.com
URL:https://www.entelequiacultura.com/evento/retiro-olga-merino-2025/
LOCATION:RETIRO CULTURAL – Sitges (Barcelona)
CATEGORIES:Literatura,Retiros culturales
ATTACH;FMTTYPE=image/jpeg:https://www.entelequiacultura.com/wp-content/uploads/2025/06/Portada-retiro-Olga-Merino.jpg
END:VEVENT
END:VCALENDAR