BEGIN:VCALENDAR
VERSION:2.0
PRODID:-//Entelequia Cultura - ECPv6.15.19//NONSGML v1.0//EN
CALSCALE:GREGORIAN
METHOD:PUBLISH
X-WR-CALNAME:Entelequia Cultura
X-ORIGINAL-URL:https://www.entelequiacultura.com/ca/
X-WR-CALDESC:Esdeveniments per Entelequia Cultura
REFRESH-INTERVAL;VALUE=DURATION:PT1H
X-Robots-Tag:noindex
X-PUBLISHED-TTL:PT1H
BEGIN:VTIMEZONE
TZID:Europe/Madrid
BEGIN:DAYLIGHT
TZOFFSETFROM:+0100
TZOFFSETTO:+0200
TZNAME:CEST
DTSTART:20250330T010000
END:DAYLIGHT
BEGIN:STANDARD
TZOFFSETFROM:+0200
TZOFFSETTO:+0100
TZNAME:CET
DTSTART:20251026T010000
END:STANDARD
BEGIN:DAYLIGHT
TZOFFSETFROM:+0100
TZOFFSETTO:+0200
TZNAME:CEST
DTSTART:20260329T010000
END:DAYLIGHT
BEGIN:STANDARD
TZOFFSETFROM:+0200
TZOFFSETTO:+0100
TZNAME:CET
DTSTART:20261025T010000
END:STANDARD
BEGIN:DAYLIGHT
TZOFFSETFROM:+0100
TZOFFSETTO:+0200
TZNAME:CEST
DTSTART:20270328T010000
END:DAYLIGHT
BEGIN:STANDARD
TZOFFSETFROM:+0200
TZOFFSETTO:+0100
TZNAME:CET
DTSTART:20271031T010000
END:STANDARD
END:VTIMEZONE
BEGIN:VEVENT
DTSTART;TZID=Europe/Madrid:20260313T170000
DTEND;TZID=Europe/Madrid:20260315T130000
DTSTAMP:20260420T130756
CREATED:20251112T130316Z
LAST-MODIFIED:20260318T123904Z
UID:43648-1773421200-1773579600@www.entelequiacultura.com
SUMMARY:LYCEUM CLUB FEMENÍ. LA REVOLTA DE LES FALDILLES (Mercedes Gómez Blesa i M. Teresa Rodríguez Castro)
DESCRIPTION:Descripció\nLes Intel·lectuals republicanes constitueixen la primera generació de dones que es va incorporar activament a la vida universitària\, laboral\, política i artística espanyola\, adquirint una presència notable en els espais públics —reservats al domini masculí— que els va permetre fer importants contribucions culturals\, socials i polítiques a l’Espanya del primer terç del segle XX.  Sense aquestes dones extraordinàries –moltes d’elles avui oblidades— que van haver de lluitar contra les discriminacions de gènere alimentades pel discurs de la domesticitat vigent en les polítiques educatives de la Restauració\, no es podria comprendre la profunda transformació que va sofrir la societat durant la II República. Un dels espais de reunió més emblemàtics d’aquestes intel·lectuals va ser el Lyceum Club Femení\, creat en 1926 i presidit per María de Maeztu\, amb l’objectiu de fomentar l’esperit col·lectiu de les dones i possibilitar un enriquiment cultural femení a través de cicles de conferències\, exposicions de pintura o concerts musicals\, a càrrec d’intel·lectuals\, científics i d’artistes nacionals i estrangers. \nAquesta trobada té com a objectiu donar a conèixer a aquest fascinant univers femení que va constituir l’habitació pròpia de moltes intel·lectuals que necessitaven d’un punt de trobada per a construir la seva identitat com a dones lliures i autònomes i reivindicar la visibilitat en l’espai públic. Per a això\, mantindrem conferències en l’Institut Internacional\, lloc on es va celebrar l’Assemblea Constituent del Lyceum Club\, realitzarem una ruta pels llocs emblemàtics d’aquest grup de dones (la seu del Lyceum Club – Casa de les set xemeneies\, la Residència de Senyoretes\, la Residència d’Estudiants\, el Cercle de Belles Arts i alguns dels cafès on van transcórrer els bojos i desenfrenats anys vint). I\, a més\, tindrem ocasió de visitar la gran exposició organitzada pel Museu Reina Sofia d’una de les dones més transgressores del Lyceum: Maruja Mallo. \nEl programa\nDivendres\, 13 de març \n 17\,00h Recepció i trobada amb els assistents en els jardins de la Residència de senyoretes (Fundación Ortega-Marañón\, C/ Fortuny\, 53). \n 17\,30 a 19\,30h Sessió de conferències en l’Institut Internacional a carrèc de Mercedes Gómez Blesa «Els bojos anys vint: les lyceómanes» i María Teresa Rodríguez Castro «Introducció al món del Lyceum Club». \n Passeig fins al Cercle de Belles Arts de Madrid i sopar en el restaurant ubicat en la mateixa institució. \nDissabte\, 14 de març \n De 10\,00 a 12\,00h Sessió de conferencies en l’Institut Internacional: «Les seccions del Lyceum» a càrrec de María Teresa Rodríguez de Castro i «Las sinsombrero: Maruja Mallo i Concha Méndez» a càrrec de Mercedes Gómez Blesa. \n Passeig i visita a la Residència d’Estudiants \n Dinar al restaurant de la Residència d’Estudiants \n 16\,30 a 20\,00h Ruta pels llocs més emblemàtics del Lyceum Club amb explicacions de les autoras \n Sopar lliure \nDiumenge\, 15 de març \n 10\,00 a 12\,00h Visita al Museu Reina Sofía per a veure l’exposició dedicada a Maruja Mallo i altres artistes de l’edat de Plata. \n Xerrada post-exposició \n Dinar de cloenda (opcional) i despedida\nLes professores\n\n		\n					\n										\n			\n		\n		\n							\n														\n					\n								\n					\n	\n\n\nMERCEDES GÓMEZ BLESA és doctora en Filosofia\, assagista\, investigadora i experta en l’obra de María Zambrano. Ha preparat l’edició crítica de molts dels seus llibres i actualment és la directora de les seves Obres Completes. Autora\, entre altres llibres\, de La razón mediadora: filosofía y piedad en María Zambrano (2008)\, amb el que va ser guardanoda amb el premi d’assaig Ciudad de Burgos\, Modernas y vanguardistas. Las mujeres-faro de la Edad de Plata (2019) i Estéticas de la ausencia (2021).\n\n		\n								\n		\n		\n												\n								\n					\n	\n\n\nMARÍA TERESA RODRÍGUEZ DE CASTRO és coautora al costat de José Antonio Marina del llibre “La conspiración de las lectoras”\, sobre el Lyceum Club de Madrid (Anagrama\, 2009). Va participar com a investigadora en el llibre “La revolución de las mujeres. Crónica gráfica de una revolución silenciosa” (J de J Editors\, 2006). Llicenciada en Dret\, dirigeix l’àrea humanística de Optometr-*IA al cubo. Del Dret va fer el salt al món educatiu pel seu interès en la intel·ligència col·lectiva\, les seves creacions i possibilitats. Va escriure sobre l’origen dels moviments socials en la revista “Quaderns de Pedagogia”. És també autora dels llibres: “Amores elípticos” (Cataracta\, 2023) i “El fuego y la púrpura” (La Huerta Grande\, 2024). Va escriure al costat de José Antonio Marina “El bucle prodigioso”\, que exposa el seu sistema filosòfic en diferents tesis (Anagrama 2012).\nL’alotjament\nEns allotjarem a l’hotel Persal situat en el cèntric barri de les lletres\, però a la ciutat de Madrid hi ha una àmplia gamma d’allotjaments alternatius on les persones que assisteixin a la trobada es poden allotjar si els resulta més convenient.\n\n \n\nSi vols rebre informació sobre nous esdeveniments\, subscriu-te al nostre butlletí informatiu \nSubscriu-te!!\nhola@entelequiacultura.com
URL:https://www.entelequiacultura.com/ca/esdeveniment/retir-madrid-2026-2/
LOCATION:TROBADA CULTURAL – Madrid
CATEGORIES:Retirs culturals,Viatges culturals
ATTACH;FMTTYPE=image/jpeg:https://www.entelequiacultura.com/wp-content/uploads/2025/11/Portada-lyceum-club-femenino.jpg
END:VEVENT
END:VCALENDAR