BEGIN:VCALENDAR
VERSION:2.0
PRODID:-//Entelequia Cultura - ECPv6.15.19//NONSGML v1.0//EN
CALSCALE:GREGORIAN
METHOD:PUBLISH
X-WR-CALNAME:Entelequia Cultura
X-ORIGINAL-URL:https://www.entelequiacultura.com/ca/
X-WR-CALDESC:Esdeveniments per Entelequia Cultura
REFRESH-INTERVAL;VALUE=DURATION:PT1H
X-Robots-Tag:noindex
X-PUBLISHED-TTL:PT1H
BEGIN:VTIMEZONE
TZID:Europe/Madrid
BEGIN:DAYLIGHT
TZOFFSETFROM:+0100
TZOFFSETTO:+0200
TZNAME:CEST
DTSTART:20250330T010000
END:DAYLIGHT
BEGIN:STANDARD
TZOFFSETFROM:+0200
TZOFFSETTO:+0100
TZNAME:CET
DTSTART:20251026T010000
END:STANDARD
BEGIN:DAYLIGHT
TZOFFSETFROM:+0100
TZOFFSETTO:+0200
TZNAME:CEST
DTSTART:20260329T010000
END:DAYLIGHT
BEGIN:STANDARD
TZOFFSETFROM:+0200
TZOFFSETTO:+0100
TZNAME:CET
DTSTART:20261025T010000
END:STANDARD
BEGIN:DAYLIGHT
TZOFFSETFROM:+0100
TZOFFSETTO:+0200
TZNAME:CEST
DTSTART:20270328T010000
END:DAYLIGHT
BEGIN:STANDARD
TZOFFSETFROM:+0200
TZOFFSETTO:+0100
TZNAME:CET
DTSTART:20271031T010000
END:STANDARD
END:VTIMEZONE
BEGIN:VEVENT
DTSTART;TZID=Europe/Madrid:20260307T100000
DTEND;TZID=Europe/Madrid:20260307T180000
DTSTAMP:20260422T132822
CREATED:20251112T103643Z
LAST-MODIFIED:20251128T100617Z
UID:43740-1772877600-1772906400@www.entelequiacultura.com
SUMMARY:L'AMOR DE LES MÍSTIQUES (Victoria Cirlot)
DESCRIPTION:Descripció:\n\n\nEl curs plantejarà el tema de l’amor en les místiques del segle XIII\, en concret\, de Hadewijch\, Beatriz de Nazareth\, Angela de Foligno\, Mechthild de Magdeburg i Marguerite Porete. La difícil comprensió d’aquest assumpte exigirà recórrer a diverses interpretacions\, des del feminisme fins a la psicoanàlisi. Les místiques empren un llenguatge eròtic per a parlar del seu amor a Déu\, encara que naturalment aquest sigui un amor espiritual. Sensualitat i espiritualitat es fundin de tal manera que resulta complexa la seva distinció. El curs es proposa la comprensió de qüestions com ara el desig de Déu\, l’escola de l’amor com a perfeccionament i sofriment\, i el goig en la unió. \n\n\n\nHadewijch: l’experiència de l’amor en l’obra lírica i en les cartes i visions\nBeatriz de Nazareth i “Los siete modos de amor”\nAngela de Foligno: de l’amor a Crist a l’amor de la Trinitat\nMechthild de Magdeburg: emanació de llum i camí descendent\n\nMarguerite Porete: l’amor més enllà de les virtuts \nBibliografía \nFonts \n\nHadewijch:\n\nHadewijch\, Canciones\, edició de Frank Willaert i Veerle Fraeters\, Siruela\, Madrid\, 2022. \nFlores de Flandes. Hadewijch de Amberes\, Cartas\, visiones\, canciones. Beatriz de Nazareth\, introducció i notes de Loet Swart i traducció de Carmen Ros i Loet Swart\, BAC\, Madrid 2001. \n\nAngela de Foligno:\n\nAngela de Foligno\, El Libro de la experiencia\, edició de Pablo García Acosta\, Siruela\, Madrid\, 2014. \n\nMechthild von Magdeburg:\n\nMatilde de Magdeburgo\, La luz fluyente de la divinidad\, traducción de Almudena Otero Villena\, Herder\, Barcelona\, 2016. \n\nMarguerite Porete:\n\nMargarita Porete\, El espejo de las almas simples\, edició de Blanca Garí\, Siruela\, Madrid\, 2005. \nEstudios \nVictoria Cirlot\, Blanca Garí\, La mirada interior. Mística femenina en la Edad Media\, Siruela\, Madrid\, 2021 (2ª edición). \n\n\n\n\n\nLa professora:\n\nVICTORIA CIRLOT és catedràtica de Filologia Romànica en la Facultat d’Humanitats de la Universitat Pompeu Fabra de Barcelona\, i Directora de l’Institut Universitari de Cultura en aquesta Universitat. S’ha dedicat a l’estudi de l’Edat mitjana: cultura cavalleresca i mística. Va realitzar diverses traduccions de novel·les artúriques dels segles XII i XIII del francès antic\, com per exemple Perlesvaus o El alto libro del Grial (publicat en Siruela amb diverses reedicions) i també de lírica trovadoresca (Jaufré Rudel\, El amor de lonh\, Columna\, Barcelona 1998). Entre els seus llibres dedicats a la novel·la artúrica destaca Figuras del destino. Mitos y símbolos de la Europa medieval (Siruela\, Madrid 2005). En l’àmbit de la mística medieval s’ha ocupat de Hildegard von Bingen (Vida y visiones de Hildegard von Bingen\, Siruela\, Madrid 1997-2006)\, així com d’altres escriptores místiques (La mirada interior. Escritoras místicas y visionarias de la Edad Media\, Siruela\, Madrid 2008\, en col·laboració). \nHa treballat sobre el fenomen visionari en estudis comparatius de l’Edat mitjana i segle XX : Hildegard von Bingen y la tradición visionaria de Occidente (Herder\, Barcelona 2005) i en La visión abierta. El mito del Grial y el surrealismo (Siruela\, Madrid 2010). El seu últim llibre és Ariadna abandonada. Nietzsche trabaja en el mito (AlphaDecay\, 2021). \nÉs directora de la col·lecció El árbol del Paraiso de l’editorial Siruela. També s’ha ocupat de l’edició de l’obra del seu pare\, el poeta i autor del Diccionario de símbolos\, Juan Eduardo Cirlot.\n		\n							\n						\n				\nDetalls\n			\n			\n					\n	\nActivitat: Curs \n Data:  7 març 2026 (dissabte) \n  Horari: De 10\,00 a 14\,00h i de 16\,00 a 18\,00h (opcional dinar amb la professora) \n  Lloc: Entelequia Cultura (Dante Alighieri\, 2\, esc. B\, 2n 2na\, Barcelona) \n Places: 12 \n Preu: 120€ \nCOMPLET!\nPer a apuntar-te en llista d’espera  \n Contacta’ns! 
URL:https://www.entelequiacultura.com/ca/esdeveniment/curs-victoria-cirlot-2026/
LOCATION:CURS – Barcelona
CATEGORIES:Activitats BCN
ATTACH;FMTTYPE=image/jpeg:https://www.entelequiacultura.com/wp-content/uploads/2025/11/Portada-eventos-1280-×-720-px-2.jpg
END:VEVENT
END:VCALENDAR