BEGIN:VCALENDAR
VERSION:2.0
PRODID:-//Entelequia Cultura - ECPv6.15.19//NONSGML v1.0//EN
CALSCALE:GREGORIAN
METHOD:PUBLISH
X-WR-CALNAME:Entelequia Cultura
X-ORIGINAL-URL:https://www.entelequiacultura.com/ca/
X-WR-CALDESC:Esdeveniments per Entelequia Cultura
REFRESH-INTERVAL;VALUE=DURATION:PT1H
X-Robots-Tag:noindex
X-PUBLISHED-TTL:PT1H
BEGIN:VTIMEZONE
TZID:Europe/Madrid
BEGIN:DAYLIGHT
TZOFFSETFROM:+0100
TZOFFSETTO:+0200
TZNAME:CEST
DTSTART:20250330T010000
END:DAYLIGHT
BEGIN:STANDARD
TZOFFSETFROM:+0200
TZOFFSETTO:+0100
TZNAME:CET
DTSTART:20251026T010000
END:STANDARD
BEGIN:DAYLIGHT
TZOFFSETFROM:+0100
TZOFFSETTO:+0200
TZNAME:CEST
DTSTART:20260329T010000
END:DAYLIGHT
BEGIN:STANDARD
TZOFFSETFROM:+0200
TZOFFSETTO:+0100
TZNAME:CET
DTSTART:20261025T010000
END:STANDARD
BEGIN:DAYLIGHT
TZOFFSETFROM:+0100
TZOFFSETTO:+0200
TZNAME:CEST
DTSTART:20270328T010000
END:DAYLIGHT
BEGIN:STANDARD
TZOFFSETFROM:+0200
TZOFFSETTO:+0100
TZNAME:CET
DTSTART:20271031T010000
END:STANDARD
END:VTIMEZONE
BEGIN:VEVENT
DTSTART;TZID=Europe/Madrid:20260221T100000
DTEND;TZID=Europe/Madrid:20260221T180000
DTSTAMP:20260422T132656
CREATED:20251218T190311Z
LAST-MODIFIED:20260222T070431Z
UID:44100-1771668000-1771696800@www.entelequiacultura.com
SUMMARY:MONTAIGNE: EL SEU JO\, EL NOSTRE (Rosa Rius Gatell)
DESCRIPTION:Descripció:\nUna vegada vaig sentir dir que caldrien tres vides per llegir els Assajos de Montaigne (1533-1592). Com sigui que probablement no les tenim\, ens convindria –amb la que tenim– acostar-nos al savi del Périgord per a escoltar el que té per explicar-nos. \n“Els altres formen l’home; jo el descric [récite] i en represento un de particular\, ben mal format\, que\, si hagués d’afaiçonar-lo de nou\, el faria ben diferent del que és”\, escrivia Michel de Montaigne en els seus Assajos (III\, ii). Aquest home “mal format” ja està fet\, però com sigui que el món és un perpetu vaivé i “tot hi és en moviment constant” (III\, ii)\, en un instant tot haurà canviat i\, per tant\, aquest home\, aquest “jo”\, també. \nEl “jo” de Montaigne\, com el “jo” de tot ésser humà és un “jo” en moviment i quan l’autor ens parla de les seves inseguretats\, dubtes i vacil·lacions\, les seves malalties i confusions\, els seus encerts i capacitats\, la seva curiositat i els seus desitjos\, sembla que ens està parlant dels nostres “jos”. \nEn aquest seminari reflexionarem sobre el pensament de Montaigne\, tot parant particular atenció a qüestions com aquest “jo” canviant\, els colonialismes\, el suïcidi\, l’amistat\, la malenconia\, el penediment\, l’educació. Convindrà recordar amb Montaigne que: “[No] hi ha ciència tan àrdua que la de saber viure bé i naturalment aquesta vida; i que de les nostres malalties\, la més salvatge és menysprear el nostre ésser” (III\, xiii). Potser sí que necessitaríem tres vides. \nReferència bibliogràfica de les cites en la traducció de Vicent Alonso a Editorial Proa. \nLectura recomanada (no obligatoria) d’alguns Assajos: \nI ii. La tristesa\nI xxvii. L’amistat\nI xxx. Els caníbals\nII iii. Costum de l’illa de Ceos\nII xxxv. Tres bones dones\nII xxxvii. La semblança dels fills amb els pares\nIII ii. El penedir-se\nIII xiii. L’experiència\n[/column_2]\nLa professora:\n\n\nROSA RIUS GATELL és professora honorífica de Filosofia en la Universitat de Barcelona i integrant del Seminari Filosofia i Gènere – ADHUC (Centre de Reserca Teoría\, Gènere\, Sexualitat) des de la seva fundació. Les seves recerques se centren en la filosofia del Renaixement i el pensament de les dones en diferents períodes de la història\, especialment segles XVI i XX. Ha traduït obres de filòsofes com Jeanne Hersch i Rachel Bespaloff. \n\nÉs editora de diversos volums col·lectius\, entre els quals cal recordar: Pensadoras del Siglo XX. Aportaciones al pensamiento filosófico y político (2011) i Lectoras de Simone Weil (2013)\, tots dos amb Fina Birulés. Entre les seves publicacions destaquen “Il Principe” de Maquiavelo. Primera traducció espanyola basada en un manuscrit inèdit (2010)\, coautora Montserrat Casas\, així com l’assaig introductori i les notes crítiques a la Història de les dones filòsofes de Gilles Ménage (4a reimpr. 2023) i articles com: «À la recherchedonis savoirs anciens. Simone Weil dans l’air dutemps» (2014)\, «María Zambrano et l’art qui faitvoir» (2015)\, «De la bellesa\, l’art i la pintura “veritable” en Simone Weil» (2017)\, «Simone Weillectora de Maquiavel» (2018)\, «María Zambrano\, notes sobre l’alegria i el dolor» (2021)\, «Notis sud le rôle de l’art chez María Zambrano et Simone Weil» (2023).\n[/column_1]\n		\n							\n						\n				\nDetalls\n			\n			\n					\n	\nSi vols rebre informació sobre nous esdeveniments\, subscriu-te al nostre butlletí informatiu \nSubscriu-te!!\nhola@entelequiacultura.com
URL:https://www.entelequiacultura.com/ca/esdeveniment/montaigne-2026/
LOCATION:CURS – Barcelona
CATEGORIES:Activitats BCN,Rosa Rius
ATTACH;FMTTYPE=image/jpeg:https://www.entelequiacultura.com/wp-content/uploads/2025/12/Portada-montaigne-entelequia-cultura.jpg
END:VEVENT
END:VCALENDAR